BEGIN:VCALENDAR
VERSION:2.0
PRODID:-//Yolo Bird Alliance - ECPv6.15.20//NONSGML v1.0//EN
CALSCALE:GREGORIAN
METHOD:PUBLISH
X-WR-CALNAME:Yolo Bird Alliance
X-ORIGINAL-URL:https://yolobirdalliance.org
X-WR-CALDESC:Events for Yolo Bird Alliance
REFRESH-INTERVAL;VALUE=DURATION:PT1H
X-Robots-Tag:noindex
X-PUBLISHED-TTL:PT1H
BEGIN:VTIMEZONE
TZID:America/Los_Angeles
BEGIN:DAYLIGHT
TZOFFSETFROM:-0800
TZOFFSETTO:-0700
TZNAME:PDT
DTSTART:20230312T100000
END:DAYLIGHT
BEGIN:STANDARD
TZOFFSETFROM:-0700
TZOFFSETTO:-0800
TZNAME:PST
DTSTART:20231105T090000
END:STANDARD
BEGIN:DAYLIGHT
TZOFFSETFROM:-0800
TZOFFSETTO:-0700
TZNAME:PDT
DTSTART:20240310T100000
END:DAYLIGHT
BEGIN:STANDARD
TZOFFSETFROM:-0700
TZOFFSETTO:-0800
TZNAME:PST
DTSTART:20241103T090000
END:STANDARD
BEGIN:DAYLIGHT
TZOFFSETFROM:-0800
TZOFFSETTO:-0700
TZNAME:PDT
DTSTART:20250309T100000
END:DAYLIGHT
BEGIN:STANDARD
TZOFFSETFROM:-0700
TZOFFSETTO:-0800
TZNAME:PST
DTSTART:20251102T090000
END:STANDARD
END:VTIMEZONE
BEGIN:VEVENT
DTSTART;TZID=America/Los_Angeles:20240504T180000
DTEND;TZID=America/Los_Angeles:20240504T210000
DTSTAMP:20260425T180408
CREATED:20240409T190255Z
LAST-MODIFIED:20240409T190255Z
UID:6795-1714845600-1714856400@yolobirdalliance.org
SUMMARY:Capay Open Space Park - Lesser Nighthawks
DESCRIPTION:Lesser Nighthawk ©Zane Pickus \nNighthawks are a family of cryptically colored\, primarily nocturnal bird species that are a favorite of many birders. Cache Creek is the summer home of the Lesser Nighthawk\, which winters in Central and South America before returning to California’s Central Valley to breed. Lesser Nighthawks primarily feed on insects under the cover of darkness\, but in the spring they routinely engage in dusk courtship rituals. Capay Open Space Park is the perfect place to observe nighthawks as they chase each other in acrobatic flights and sing their eerie trilled songs. \nYou can learn more about Lesser Nighthawks and listen to their song here:https://www.allaboutbirds.org/guide/Lesser_Nighthawk/overview \nJoin Zane Pickus and Frank Fabbro in a dusk birding trip to Capay Open Space Park. While this trip will be focused on the nighthawks\, there should be plenty of other birds to see. California Thrashers\, though inconspicuous\, nest here. Western Meadowlarks\, California Quail\, and a variety of swallows will be abundant. Given the date\, we could encounter a neotropical migrant or two! \nWe’ll meet at 6:00pm at the Marketplace Shopping Center (near Big 5 Sporting Goods\, 1301 W. Covell\, just east of Hwy 113). We will plan to bird until dark\, and should return to Davis between 8:30pm and 9:00pm. Bring binoculars\, cameras\, snacks\, and water. The trip will include a short walk along the gravel creekbed. High winds or a significant rainstorm will cancel the trip. \nYolo Audubon Society field trips are free and open to the public. Carpooling is strongly encouraged\, but all rides are private arrangements between driver and riders. \nContact Zane for more details. zanep987@gmail.com \n\n 
URL:https://yolobirdalliance.org/event/capay-open-space-park-lesser-nighthawks-2/
CATEGORIES:Field Trip
END:VEVENT
BEGIN:VEVENT
DTSTART;TZID=America/Los_Angeles:20240518T083000
DTEND;TZID=America/Los_Angeles:20240518T120000
DTSTAMP:20260425T180408
CREATED:20240514T210434Z
LAST-MODIFIED:20240514T212246Z
UID:6869-1716021000-1716033600@yolobirdalliance.org
SUMMARY:Bobcat Ranch - Birds and Wildflower Tour
DESCRIPTION:Bullock’s Oriole ©Kelli O’Neill \nJoin Yolo Audubon Society for birds and wildflower tour of Bobcat Ranch. This sprawling blue oak woodland property sits in the hills of the coastal range just north of Berryessa Gap. The hills are green\, flowers are blooming\, and we should have some spring migrants showing up. Bobcat Ranch is great for spotting woodpeckers\, raptors\, and the occasional resident bald eagle as well as lupine\, blue dicks\, and a variety of other wildflowers. We will also visit one of the largest native milkweed stands in the area. \nThis trip will involve moderate-strenuous hiking with portions of sustained uphill on uneven\, unpaved surfaces. We will hike a loop approximately 2 miles long and gain about 300-400 feet in elevation. Bring binoculars\, plenty of water\, snacks\, hiking poles if needed\, and sturdy hiking shoes. Dress in layers as it can be cool in the early morning and warm in the late morning. \nWe’ll meet at 8:30 a.m. and aim to return to Davis by noon. Location and further details will be provided to those who have reserved a spot on the trip. \nThis trip has limited space. Please reserve a spot by emailing Ryan Janke (rhjanke29@gmail.com).  \n  \n\n 
URL:https://yolobirdalliance.org/event/bobcat-ranch-birds-and-wildflower-tour/
CATEGORIES:Field Trip
END:VEVENT
END:VCALENDAR