BEGIN:VCALENDAR
VERSION:2.0
PRODID:-//Yolo Bird Alliance - ECPv6.15.20//NONSGML v1.0//EN
CALSCALE:GREGORIAN
METHOD:PUBLISH
X-WR-CALNAME:Yolo Bird Alliance
X-ORIGINAL-URL:https://yolobirdalliance.org
X-WR-CALDESC:Events for Yolo Bird Alliance
REFRESH-INTERVAL;VALUE=DURATION:PT1H
X-Robots-Tag:noindex
X-PUBLISHED-TTL:PT1H
BEGIN:VTIMEZONE
TZID:America/Los_Angeles
BEGIN:DAYLIGHT
TZOFFSETFROM:-0800
TZOFFSETTO:-0700
TZNAME:PDT
DTSTART:20250309T100000
END:DAYLIGHT
BEGIN:STANDARD
TZOFFSETFROM:-0700
TZOFFSETTO:-0800
TZNAME:PST
DTSTART:20251102T090000
END:STANDARD
BEGIN:DAYLIGHT
TZOFFSETFROM:-0800
TZOFFSETTO:-0700
TZNAME:PDT
DTSTART:20260308T100000
END:DAYLIGHT
BEGIN:STANDARD
TZOFFSETFROM:-0700
TZOFFSETTO:-0800
TZNAME:PST
DTSTART:20261101T090000
END:STANDARD
BEGIN:DAYLIGHT
TZOFFSETFROM:-0800
TZOFFSETTO:-0700
TZNAME:PDT
DTSTART:20270314T100000
END:DAYLIGHT
BEGIN:STANDARD
TZOFFSETFROM:-0700
TZOFFSETTO:-0800
TZNAME:PST
DTSTART:20271107T090000
END:STANDARD
END:VTIMEZONE
BEGIN:VEVENT
DTSTART;TZID=America/Los_Angeles:20260214T063000
DTEND;TZID=America/Los_Angeles:20260214T173000
DTSTAMP:20260424T111811
CREATED:20260108T005146Z
LAST-MODIFIED:20260211T025202Z
UID:8131-1771050600-1771090200@yolobirdalliance.org
SUMMARY:Winter Field Trip to Bodega Bay - TRIP IS FULL
DESCRIPTION:Red Knot ©Kevin Guse \nTrip Leaders:  Kevin Guse  – TRIP FULL \nDescription:   \nYou are cordially invited to join us for a trip to one of the crown jewels of Northern California birding: Bodega Bay. On this trip we will be looking for a wide variety of winter bird species\, including shorebirds\, gulls\, loons\, grebes\, ducks\, raptors and wading birds. Previous trips have seen Brant\, Long-tailed Duck\, Red-necked Grebe\, over a dozen shorebird species\, and a “cormorant sweep” of Brandt’s\, Double-crested\, and Pelagic Cormorants. This trip frequently finds over seventy species and is one of Yolo Bird Alliance’s most popular events. \nAccessibility: \nA mix of birding by car and on foot. There will be a few short walks on level terrain. Bathrooms are available in a few locations\, but not at all stops. \nMeeting Location and Registration: \nBirders of all ages and skill levels are welcome! Please bring binoculars\, water\, snacks\, lunch\, and layers for winter weather. A spotting scope is worth bringing if you have one\, though Yolo Bird Alliance will have one for the group to share. High winds or significant rain will cancel this trip. This will be a full day of birding\, meeting at 6:30 AM and returning to the meeting location by 5:30pm. \nThis is a popular trip\, so don’t hesitate to sign up! Participants will be limited such that the trip is limited to 5 cars. The meeting location will be distributed upon signing up. Please contact Zane Pickus with any questions or to register at yolobirdalliance@gmail.com \n Yolo Bird Alliance field trips are free and open to the public. Carpooling is highly encouraged\, but all rides are private arrangements between drivers and riders. \n 
URL:https://yolobirdalliance.org/event/winter-field-trip-to-bodega-bay-2/
CATEGORIES:Field Trip
END:VEVENT
BEGIN:VEVENT
DTSTART;TZID=America/Los_Angeles:20260215T090000
DTEND;TZID=America/Los_Angeles:20260215T143000
DTSTAMP:20260424T111811
CREATED:20260108T010450Z
LAST-MODIFIED:20260211T024942Z
UID:8135-1771146000-1771165800@yolobirdalliance.org
SUMMARY:Robinson Road: Raptors and Plovers - TRIP IS FULL
DESCRIPTION:Mountain Plover ©Frank Severson \nTrip Leaders: Sharon Kirkpatrick – TRIP FULL \nDescription:   \nJoin us for a trip to the pastures of southeastern Solano County to search for overwintering raptors & other winter visitors. The fields in the vicinity of Robinson and Flannery Roads can be a fantastic location to observe locally uncommon grassland species. We will search fields\, perches and farm equipment for raptors\, and scan pastures for Mountain Plovers\, Horned Larks\, and Burrowing Owls. Prior trips have also seen Prairie Falcons\, Merlins\, Golden Eagles\, Ferruginous Hawks\, and Rough-legged Hawks.  We hope to see these and many more species during this trip. \nAccessibility: \nMost birding will be done by car\, with frequent stops to get out and scan for birds. There may be a few short walks along the gravel roads\, but they will be on level ground. Bathrooms are unavailable at this location. \nMeeting Location and Registration: \nBirders of all ages and skill levels are welcome! Please bring binoculars\, water\, snacks or lunch (though we don’t stop for this)\, and layers for winter weather. A spotting scope is worth bringing if you have one. High winds or significant rain will cancel this trip. The trip will return to its meeting location by mid-afternoon. \n The Robinson Road field trip will be limited to 11 people in 3 cars. Since this is a popular trip and spaces fill up fast\, sign-up early if you are interested. Once you have signed up the meeting location will be confirmed. Please contact Zane Pickus with any questions or to sign-up at yolobirdalliance@gmail.com \nYolo Bird Alliance field trips are free and open to the public. Carpooling is highly encouraged\, but all rides are private arrangements between drivers and riders. \n 
URL:https://yolobirdalliance.org/event/robinson-road-raptors-and-plovers-2/
CATEGORIES:Field Trip
END:VEVENT
END:VCALENDAR