BEGIN:VCALENDAR
VERSION:2.0
PRODID:-//Yolo Bird Alliance - ECPv6.15.20//NONSGML v1.0//EN
CALSCALE:GREGORIAN
METHOD:PUBLISH
X-ORIGINAL-URL:https://yolobirdalliance.org
X-WR-CALDESC:Events for Yolo Bird Alliance
REFRESH-INTERVAL;VALUE=DURATION:PT1H
X-Robots-Tag:noindex
X-PUBLISHED-TTL:PT1H
BEGIN:VTIMEZONE
TZID:America/Los_Angeles
BEGIN:DAYLIGHT
TZOFFSETFROM:-0800
TZOFFSETTO:-0700
TZNAME:PDT
DTSTART:20240310T100000
END:DAYLIGHT
BEGIN:STANDARD
TZOFFSETFROM:-0700
TZOFFSETTO:-0800
TZNAME:PST
DTSTART:20241103T090000
END:STANDARD
BEGIN:DAYLIGHT
TZOFFSETFROM:-0800
TZOFFSETTO:-0700
TZNAME:PDT
DTSTART:20250309T100000
END:DAYLIGHT
BEGIN:STANDARD
TZOFFSETFROM:-0700
TZOFFSETTO:-0800
TZNAME:PST
DTSTART:20251102T090000
END:STANDARD
BEGIN:DAYLIGHT
TZOFFSETFROM:-0800
TZOFFSETTO:-0700
TZNAME:PDT
DTSTART:20260308T100000
END:DAYLIGHT
BEGIN:STANDARD
TZOFFSETFROM:-0700
TZOFFSETTO:-0800
TZNAME:PST
DTSTART:20261101T090000
END:STANDARD
BEGIN:DAYLIGHT
TZOFFSETFROM:-0800
TZOFFSETTO:-0700
TZNAME:PDT
DTSTART:20270314T100000
END:DAYLIGHT
BEGIN:STANDARD
TZOFFSETFROM:-0700
TZOFFSETTO:-0800
TZNAME:PST
DTSTART:20271107T090000
END:STANDARD
END:VTIMEZONE
BEGIN:VEVENT
DTSTART;TZID=America/Los_Angeles:20251129T080000
DTEND;TZID=America/Los_Angeles:20251129T160000
DTSTAMP:20260425T064259
CREATED:20251103T014848Z
LAST-MODIFIED:20251103T014848Z
UID:7894-1764403200-1764432000@yolobirdalliance.org
SUMMARY:Sacramento and Colusa Wildlife Refuges
DESCRIPTION:Sacramento National Wildlife Refuge ©Genevieve Colborn \nTrip Leader: – Genevieve Colborn and Kelli O’Neill \nDescription:   \nThis post-Thanksgiving trip will feature iconic Central Valley wintering birds at two national wildlife refuges. Depending on water conditions\, late November at the Sacramento and Colusa National Wildlife Refuges can be a phenomenal birding location. These refuges host hundreds of thousands of wintering geese and ducks\, as well as many other birds. We will have good chances of seeing bald eagles and other raptors. We will bird the auto loops at both refuges\, stopping at the observation tower in Sacramento NWR and the observation deck at Colusa NWR. Depending on the weather\, we may take a short trail walk. \nFor further information regarding species may be encountered on this field trip\, check out the eBird Trip Report from last winter’s edition of the event: https://ebird.org/tripreport/298336 \nAccessibility: \nMost birding will be done by car\, with a couple of short walks on flat\, mostly even terrain. Bathrooms will be available at each of the refuge headquarters. \nMeeting Location and Registration: \nPlease contact Zane Pickus at yolobirdalliance@gmail.com to register and for details regarding where to meet. This trip will be limited to 12 participants in a maximum of 4 cars. A one-day pass ($6) or National Parks pass is required for each vehicle. It can be purchased beforehand online or at the kiosk for the refuge on the day of the trip. \nYolo Bird Alliance field trips are free and open to the public. Carpooling is highly encouraged\, but all rides are private arrangements between drivers and riders.
URL:https://yolobirdalliance.org/event/sacramento-and-colusa-wildlife-refuges-2/
CATEGORIES:Field Trip
END:VEVENT
BEGIN:VEVENT
DTSTART;TZID=America/Los_Angeles:20260124T160000
DTEND;TZID=America/Los_Angeles:20260124T200000
DTSTAMP:20260425T064259
CREATED:20260106T163248Z
LAST-MODIFIED:20260114T043008Z
UID:8109-1769270400-1769284800@yolobirdalliance.org
SUMMARY:Owling at Bobcat Ranch - TRIP IS FULL
DESCRIPTION:Bobcat Ranch at Night ©Matt Allshouse \nTrip Leaders:  Matt Allshouse\, Autumn Turner\, Kelli O’Neill  – TRIP IS FULL \nDescription:   \nTake part in this limited opportunity to explore Audubon California’s Bobcat Ranch near Winters for a special evening owling field trip. Bobcat Ranch is a 6\,800-acre working ranch that uses regenerative grazing management to restore and manage natural diversity in grassland and oak woodlands. It is Audubon California’s largest landholding and is the first certified Ranch in California under Audubon’s Conservation Ranching Program. To aid in monitoring the outcomes of sustainable grazing practices\, YBA volunteers have conducted biweekly bird surveys on the Ranch as part of an ongoing phenology study since 2016. \nJoin Yolo Bird Alliance volunteers Kelli and Autumn\, and ranch manager Matt Allshouse for this crepuscular owling outing. Leaders will guide participants on a short walk around the headquarters for sunset birding\, and proceed to other owling locations on the Ranch via short walk/vehicle. \nAccessibility: \nPlease note that the terrain may be rocky and muddy and will include trip hazards\, especially with limited visibility at night. A port-a-potty will be available at headquarters. Cell phone service is limited at the Ranch. \nMeeting Location and Registration: \nPlease prepare for the weather and cold\, muddy conditions by bringing water (hot beverages and thermoses recommended!) and snacks\, wearing sturdy\, water resistant/proof close-toed shoes\, and dressing in layers. Headlamps are also recommended. This trip may be rescheduled in the event of rain. Bring your binoculars and cameras for the sunset birding portion. \nWe have special permission to lead the group on Bobcat Ranch\, which has limited public access. Maximum number of participants is 12. Participants will need to sign an online Audubon liability waiver prior to entering the Ranch in addition to the YBA field trip waiver.  Participants will rendezvous in Davis and carpool/caravan in trip leader vehicles to the property. \nPlease contact Yolo Bird Alliance Field Trip Coordinator Zane Pickus with any questions or to sign up at yolobirdalliance@gmail.com. \nYolo Bird Alliance field trips are free and open to the public.
URL:https://yolobirdalliance.org/event/owling-at-bobcat-ranch/
CATEGORIES:Field Trip
END:VEVENT
BEGIN:VEVENT
DTSTART;TZID=America/Los_Angeles:20260131T073000
DTEND;TZID=America/Los_Angeles:20260131T170000
DTSTAMP:20260425T064259
CREATED:20260108T003114Z
LAST-MODIFIED:20260116T170714Z
UID:8127-1769844600-1769878800@yolobirdalliance.org
SUMMARY:Raptor Ramble 2026 - TRIP IS FULL
DESCRIPTION:Peregrine Falcon ©Zane Pickus \nTrip Leaders:  Kevin Guse \nDescription:  TRIP IS FULL \nCalifornia’s Central Valley has one of the largest wintering raptor populations in the country. Our goal will be to see how many species of raptors we can find on this annual trip. Highlights of past trips include Ferruginous Hawk\, Rough-legged Hawk\, Golden Eagle\, Peregrine Falcon\, Merlin\, Bald Eagle and Prairie Falcon. Route to be determined as conditions warrant. \nAccessibility: \nThis trip will have a mix of birding by car and on foot\, and involves a full day in the field. Bathrooms may be limited depending on the route. \nMeeting Location and Registration: \nBirders of all ages and skill levels are welcome! Please bring binoculars\, a spotting scope if you have one\, lunch\, plenty of liquids\, layers of clothes and be prepared for a full day trip. High winds or significant rain will cancel this trip. The trip will return to its meeting location by 5:00pm. \n The Raptor Ramble will be limited to 15 participants. This is a popular trip and spaces fill up fast\, so sign-up early if you are interested! Please contact Zane Pickus with any questions or to sign-up at yolobirdalliance@gmail.com \nYolo Bird Alliance field trips are free and open to the public. Carpooling is highly encouraged\, but all rides are private arrangements between drivers and riders. \n 
URL:https://yolobirdalliance.org/event/raptor-ramble-2026/
CATEGORIES:Field Trip
END:VEVENT
BEGIN:VEVENT
DTSTART;TZID=America/Los_Angeles:20260214T063000
DTEND;TZID=America/Los_Angeles:20260214T173000
DTSTAMP:20260425T064259
CREATED:20260108T005146Z
LAST-MODIFIED:20260211T025202Z
UID:8131-1771050600-1771090200@yolobirdalliance.org
SUMMARY:Winter Field Trip to Bodega Bay - TRIP IS FULL
DESCRIPTION:Red Knot ©Kevin Guse \nTrip Leaders:  Kevin Guse  – TRIP FULL \nDescription:   \nYou are cordially invited to join us for a trip to one of the crown jewels of Northern California birding: Bodega Bay. On this trip we will be looking for a wide variety of winter bird species\, including shorebirds\, gulls\, loons\, grebes\, ducks\, raptors and wading birds. Previous trips have seen Brant\, Long-tailed Duck\, Red-necked Grebe\, over a dozen shorebird species\, and a “cormorant sweep” of Brandt’s\, Double-crested\, and Pelagic Cormorants. This trip frequently finds over seventy species and is one of Yolo Bird Alliance’s most popular events. \nAccessibility: \nA mix of birding by car and on foot. There will be a few short walks on level terrain. Bathrooms are available in a few locations\, but not at all stops. \nMeeting Location and Registration: \nBirders of all ages and skill levels are welcome! Please bring binoculars\, water\, snacks\, lunch\, and layers for winter weather. A spotting scope is worth bringing if you have one\, though Yolo Bird Alliance will have one for the group to share. High winds or significant rain will cancel this trip. This will be a full day of birding\, meeting at 6:30 AM and returning to the meeting location by 5:30pm. \nThis is a popular trip\, so don’t hesitate to sign up! Participants will be limited such that the trip is limited to 5 cars. The meeting location will be distributed upon signing up. Please contact Zane Pickus with any questions or to register at yolobirdalliance@gmail.com \n Yolo Bird Alliance field trips are free and open to the public. Carpooling is highly encouraged\, but all rides are private arrangements between drivers and riders. \n 
URL:https://yolobirdalliance.org/event/winter-field-trip-to-bodega-bay-2/
CATEGORIES:Field Trip
END:VEVENT
BEGIN:VEVENT
DTSTART;TZID=America/Los_Angeles:20260215T090000
DTEND;TZID=America/Los_Angeles:20260215T143000
DTSTAMP:20260425T064259
CREATED:20260108T010450Z
LAST-MODIFIED:20260211T024942Z
UID:8135-1771146000-1771165800@yolobirdalliance.org
SUMMARY:Robinson Road: Raptors and Plovers - TRIP IS FULL
DESCRIPTION:Mountain Plover ©Frank Severson \nTrip Leaders: Sharon Kirkpatrick – TRIP FULL \nDescription:   \nJoin us for a trip to the pastures of southeastern Solano County to search for overwintering raptors & other winter visitors. The fields in the vicinity of Robinson and Flannery Roads can be a fantastic location to observe locally uncommon grassland species. We will search fields\, perches and farm equipment for raptors\, and scan pastures for Mountain Plovers\, Horned Larks\, and Burrowing Owls. Prior trips have also seen Prairie Falcons\, Merlins\, Golden Eagles\, Ferruginous Hawks\, and Rough-legged Hawks.  We hope to see these and many more species during this trip. \nAccessibility: \nMost birding will be done by car\, with frequent stops to get out and scan for birds. There may be a few short walks along the gravel roads\, but they will be on level ground. Bathrooms are unavailable at this location. \nMeeting Location and Registration: \nBirders of all ages and skill levels are welcome! Please bring binoculars\, water\, snacks or lunch (though we don’t stop for this)\, and layers for winter weather. A spotting scope is worth bringing if you have one. High winds or significant rain will cancel this trip. The trip will return to its meeting location by mid-afternoon. \n The Robinson Road field trip will be limited to 11 people in 3 cars. Since this is a popular trip and spaces fill up fast\, sign-up early if you are interested. Once you have signed up the meeting location will be confirmed. Please contact Zane Pickus with any questions or to sign-up at yolobirdalliance@gmail.com \nYolo Bird Alliance field trips are free and open to the public. Carpooling is highly encouraged\, but all rides are private arrangements between drivers and riders. \n 
URL:https://yolobirdalliance.org/event/robinson-road-raptors-and-plovers-2/
CATEGORIES:Field Trip
END:VEVENT
BEGIN:VEVENT
DTSTART;TZID=America/Los_Angeles:20260307T080000
DTEND;TZID=America/Los_Angeles:20260307T110000
DTSTAMP:20260425T064259
CREATED:20260202T152047Z
LAST-MODIFIED:20260202T152047Z
UID:8190-1772870400-1772881200@yolobirdalliance.org
SUMMARY:eBird Atlasing at the Putah Creek Riparian Reserve
DESCRIPTION:Tree Swallow ©Zane Pickus \nTrip Leaders: Zane Pickus\, Emmett Iverson \nDescription:   \nOn January 1\, 2026\, the California Bird Atlas began! This five-year-long participatory science project will document breeding birds throughout all of California\, providing valuable insight into the state’s bird populations as well as how species interact with their habitats. All birders\, regardless of experience\, are invited to contribute to the project via eBird. This field trip will focus on the ins and outs of the eBird app\, with a specific focus on how to contribute to the CBA. eBird has tremendous value to birders of all levels\, and the app makes it easy to create checklists and log bird sightings wherever you go. This trip will be geared towards those with little eBird experience and those interested in learning more about the CBA\, including best practices for data submission in the field. \nAs for the birds\, the breeding season will be well underway for many species and just beginning for others\, so we can expect an exciting morning on the creek. Sparrows\, goldfinches\, swallows\, woodpeckers\, nuthatches\, and wrens should all be out and about\, and we will be on the look out for any breeding behaviors or signs of nesting. \nAccessibility: \nThis trip will involve 2-3 miles of walking along well-maintained reserve trails. Most of these are flat\, but there are small slopes in a few spots. There will be frequent stops to talk about birds and log sightings in the eBird mobile app. Outhouses are available at the meeting location. \nMeeting Location and Registration: \nBirders of all ages and skill levels are welcome! Please bring binoculars\, water\, and a mobile phone capable of downloading the eBird mobile app. Yolo Bird Alliance will have a scope to share\, though this trip will mostly be in creek riparian habitat. High winds or significant rain will cancel this trip. This trip will be capped at 15 participants. \nTrip leaders ask that participants have created an eBird account and download the eBird app for iOS or Android prior to the trip. Information on how to do this can be found here: https://ebird.org/about/ebird-mobile/. Additional information about eBird and how it can be used to learn about birds can be found at this recorded Yolo Bird Alliance speaker series presentation from 2022: https://www.youtube.com/watch?v=ujLAMPCToqg. \nFeel free to follow the directions in this tutorial from the CBA\, and join the project at the link here: https://ebird.org/atlascalifornia/home \nPlease contact Zane Pickus with any questions or to sign-up at yolobirdalliance@gmail.com \nYolo Bird Alliance field trips are free and open to the public. Carpooling is highly encouraged\, but all rides are private arrangements between drivers and riders.
URL:https://yolobirdalliance.org/event/ebird-atlasing-at-the-putah-creek-riparian-reserve/
CATEGORIES:Field Trip
END:VEVENT
BEGIN:VEVENT
DTSTART;TZID=America/Los_Angeles:20260411T070000
DTEND;TZID=America/Los_Angeles:20260411T090000
DTSTAMP:20260425T064259
CREATED:20260305T015136Z
LAST-MODIFIED:20260305T015136Z
UID:8247-1775890800-1775898000@yolobirdalliance.org
SUMMARY:Spring Migration at Willowbank Ditch
DESCRIPTION:Wilson’s Warbler ©Julian Johnson \nTrip Leader: Rob Furrow \nDescription:   \nThis walking trip focuses on the migrating songbirds passing through Davis. Willowbank Ditch in South Davis has a fantastic mix of mature trees\, dense understory\, and diverse fruiting and flowering plants. In mid-April\, insects abound and plants burst with flowers and new vegetation\, attracting migratory warbler species such as Wilson’s\, Orange-crowned\, Nashville\, Black-throated Gray\, and Townsend’s. There will still be some lingering winterers; we’ll hope for kinglets\, Hermit Thrushes\, and assorted sparrows. Overhead we’ll keep an eye out for swallows\, swifts\, and locally nesting Swainson’s Hawks. While birding we will practice thinking from a bird’s-eye view\, identifying habitat structure and key food sources that attract birds. \nAccessibility: \nExpect 1-1.5 miles of walking along flat greenbelt and trails\, although we will never be more than ½ of a mile from the meeting spot. \nMeeting Location and Registration: \nThe trip will leave from the junction of Almond Lane and Rosario Street in Davis.  There is street parking around this junction\, and this intersection has a walking path that leads to the footbridge over the Willowbank Ditch.  https://maps.app.goo.gl/RGoAEvynKv9u3kN26 \nWe will meet at 7:00am and the trip will end around 9:00am. Please bring binoculars as well as any desired snacks and water. Heavy rain will cancel the trip. For more information contact Rob Furrow at robertfurrow@gmail.com or 610-715-9123. \nYolo Bird Alliance field trips are free and open to the public \n 
URL:https://yolobirdalliance.org/event/spring-migration-at-willowbank-ditch-3/
CATEGORIES:Field Trip
END:VEVENT
BEGIN:VEVENT
DTSTART;TZID=America/Los_Angeles:20260419T080000
DTEND;TZID=America/Los_Angeles:20260419T110000
DTSTAMP:20260425T064259
CREATED:20260410T225522Z
LAST-MODIFIED:20260410T225522Z
UID:8313-1776585600-1776596400@yolobirdalliance.org
SUMMARY:Spring Migration at the Putah Creek Riparian Reserve
DESCRIPTION:Black Phoebe ©Aaron Haiman \nTrip Leader: Aaron Haiman \nDescription:  \nSpring migration is in full swing and what better place to go than the Putah Creek Riparian Reserve? A morning of birding on this date can produce dozens of neotropical migrants\, including warblers\, vireos\, tanagers\, orioles\, and grosbeaks. The Putah Creek Riparian Reserve includes trails both immediately adjacent to the stream as well as on the levee above\, which borders agricultural fields and vineyards\, offering birders access to a diverse range of vegetation and bird species. \nNaturalist Aaron Haiman is the author of a recently released book\, Birds of the California Delta\, which showcases the vast avian diversity in the region. Learn more about Aaron and his book below! \nBirds of the California Delta: https://www.heydaybooks.com/catalog/birds-of-the-california-delta/ \n“A Birding Naturalist” on YouTube: https://www.youtube.com/@ABirdingNaturalist \nAccessibility: \nThis trip will involve 2-3 miles of walking along well-maintained reserve trails. Most of these are flat\, but there are small slopes in a few spots. There will be frequent stops to look for and talk about birds. Outhouses are available at the meeting location. \nMeeting Location and Registration: \nBirders of all ages and skill levels are welcome! Please bring binoculars\, water\, snacks\, and sunscreen. Plan to meet Aaron at 8:00am at the Putah Creek Riparian Reserve Picnic Area off Levee Road\, here: https://maps.app.goo.gl/Lk3PmeC5QZgKC1ze7 \nParking is free at the reserve on weekends. No sign-up is necessary for this trip. \nYolo Bird Alliance field trips are free and open to the public. \n 
URL:https://yolobirdalliance.org/event/spring-migration-at-the-putah-creek-riparian-reserve-2/
CATEGORIES:Field Trip
END:VEVENT
BEGIN:VEVENT
DTSTART;TZID=America/Los_Angeles:20260419T090000
DTEND;TZID=America/Los_Angeles:20260419T120000
DTSTAMP:20260425T064259
CREATED:20260406T214122Z
LAST-MODIFIED:20260406T214122Z
UID:8306-1776589200-1776600000@yolobirdalliance.org
SUMMARY:Pacific Flyway Pond Planting Party
DESCRIPTION:In the October 2025 issue of the Burrowing Owl\, we wrote about the habitat restoration project at the Pacific Flyway Pond (formerly known as North Regional Pond\, just north of the Woodland Waste Water Treatment Plant).  Now\, Yolo Bird Alliance\, alongside Yolo County Resource Conservation District\, has a big planting day coming up at the pond.  We hope you’ll join us for a morning of getting dirty and birding on Sunday\, April 19th from 9am to noon. \nSign up with a message here and you’ll receive more information on the work day. \nThe restoration project which is being supported with a $1.6 million grant received by the City of Woodland from the California Wildlife Conservation Board can be found here.  The earth moving and construction supervised by the city has largely been completed.  Under the leadership of the Yolo County Resource Conservation District\, YBA and other local non-profits have been helping with the planting and some upcoming interpretive signage.  We’re also pleased to announce that the City of Woodland has posted “No Dogs Allowed” signs at the site.  YBA had received several complaints about dogs disturbing nesting birds.  Hope to see you on the 19th. The Pacific Flyway Pond is becoming a wonderful amenity for the county. \n  \n 
URL:https://yolobirdalliance.org/event/pacific-flyway-pond-planting-party/
CATEGORIES:Field Trip
END:VEVENT
BEGIN:VEVENT
DTSTART;TZID=America/Los_Angeles:20260426T080000
DTEND;TZID=America/Los_Angeles:20260426T110000
DTSTAMP:20260425T064259
CREATED:20260402T234453Z
LAST-MODIFIED:20260414T203031Z
UID:8274-1777190400-1777201200@yolobirdalliance.org
SUMMARY:Putah Creek at the Kusch Gardens - TRIP IS FULL
DESCRIPTION:Black-chinned Hummingbird ©Manfred Kusch \nTrip Leader: Manfred Kusch \nDescription: TRIP IS FULL \nTour Manfred Kusch’s birding gardens between Davis and Winters. Kusch has cultivated his home garden and surrounding area\, which borders Putah Creek\, into a true birding extravaganza. He attracts a wide variety of birds in the gardens and habitat around the house\, especially hummingbirds and orioles. The multi-layered vegetation on either side of the creek hosts a variety of spring migrants\, including grosbeaks\, tanagers\, warblers\, and vireos. \nAccessibility: \nThis trip will involve some walking around in the Kusch gardens\, along with a stroll along well-maintained trails paralleling the creek. Most of these are flat\, but there are small slopes in a few spots. There will be frequent stops to look for and photograph birds. \nMeeting Location and Registration: \nBirders of all ages and skill levels are welcome! Please bring binoculars\, a camera and scope if you wish\, water\, and snacks. High winds or significant rain will cancel this trip. This popular event will be capped at 12 participants\, so sign-up early! \nPlease contact Zane Pickus with any questions or to sign-up at yolobirdalliance@gmail.com \nYolo Bird Alliance field trips are free and open to the public. \n 
URL:https://yolobirdalliance.org/event/putah-creek-at-the-kusch-gardens-2/
CATEGORIES:Field Trip
END:VEVENT
BEGIN:VEVENT
DTSTART;TZID=America/Los_Angeles:20260515T180000
DTEND;TZID=America/Los_Angeles:20260515T210000
DTSTAMP:20260425T064259
CREATED:20260412T152741Z
LAST-MODIFIED:20260412T152741Z
UID:8319-1778868000-1778878800@yolobirdalliance.org
SUMMARY:Capay Open Space Park - Lesser Nighthawks
DESCRIPTION:Lesser Nighthawk ©Zane Pickus \nTrip Leader: Zane Pickus\, Bart Wickel\, Julian Johnson \nDescription:  \nNighthawks are a family of cryptically colored\, primarily nocturnal bird species that are a favorite of many birders. Cache Creek is the summer home of the Lesser Nighthawk\, which winters in Central and South America before returning to California to breed. Lesser Nighthawks primarily feed on insects under the cover of darkness\, but in the spring they routinely engage in dusk courtship rituals. Sunset at Capay Open Space Park is the perfect place to observe nighthawks as they chase each other in acrobatic flights and sing their eerie trilled songs. \nYou can learn more about Lesser Nighthawks and listen to their song here:\nhttps://www.allaboutbirds.org/guide/Lesser_Nighthawk/overview \nJoin Yolo Bird Alliance in a dusk birding trip to Capay Open Space Park. While this trip will be focused on the nighthawks\, there should be plenty of other birds to see. California Thrashers\, though inconspicuous\, nest here. Western Meadowlarks\, California Quail\, and a variety of swallows will be abundant. Given the date\, we could encounter a neotropical migrant or two! \nAccessibility: \nThis trip will involve some walking around in the Cache Creek floodplain\, which is mostly even ground but includes loose gravel and branches. Much of the trip will involve standing and listening for birds\, while also angling the group for nighthawk photo-ops. Restrooms are available in the Capay Open Space Park parking area. \nMeeting Location and Registration: \nBirders of all ages and skill levels are welcome! Please bring binoculars\, a camera if you wish\, water\, and snacks. High winds or significant rain will cancel the trip. This popular event will be capped at 15 participants\, so sign-up early! Our Davis meeting location will be shared once an RSVP has been made. Carpooling may be available but will be arranged day-of\, and all ridesharing will be private agreements between drivers and riders. \nPlease contact Zane Pickus with any questions or to sign-up at yolobirdalliance@gmail.com \nYolo Bird Alliance field trips are free and open to the public. \n 
URL:https://yolobirdalliance.org/event/capay-open-space-park-lesser-nighthawks-4/
CATEGORIES:Field Trip
END:VEVENT
END:VCALENDAR